BEGIN:VCALENDAR
VERSION:2.0
PRODID:-//Skill Reporter - ECPv6.15.20//NONSGML v1.0//EN
CALSCALE:GREGORIAN
METHOD:PUBLISH
X-WR-CALNAME:Skill Reporter
X-ORIGINAL-URL:https://www.skillreporter.com
X-WR-CALDESC:Events for Skill Reporter
REFRESH-INTERVAL;VALUE=DURATION:PT1H
X-Robots-Tag:noindex
X-PUBLISHED-TTL:PT1H
BEGIN:VTIMEZONE
TZID:Asia/Kolkata
BEGIN:STANDARD
TZOFFSETFROM:+0530
TZOFFSETTO:+0530
TZNAME:IST
DTSTART:20210101T000000
END:STANDARD
END:VTIMEZONE
BEGIN:VEVENT
DTSTART;TZID=Asia/Kolkata:20220615T113000
DTEND;TZID=Asia/Kolkata:20220617T133000
DTSTAMP:20260426T025005
CREATED:20220613T065243Z
LAST-MODIFIED:20240101T143426Z
UID:56482-1655292600-1655472600@www.skillreporter.com
SUMMARY:Workshop on Mobile Photography and Filmmaking
DESCRIPTION:MESC and SAE Institute\, Dubai brings to you Creative Warriors 3 Days free online workshop on “Mobile Photography & Filmmaking” by Darren Dharmai\, Technical Supervisor\, SAE Dubai. \n\n\n\nFacilitated by industry professionals\, this workshop is an introduction to the creative and technical aspects of filmmaking and photography.  \n\n\n\nTopics to be covered:\n\n\n\n\nCraft of Screenwriting\n\n\n\nCasting\n\n\n\nProduction Management\n\n\n\nStoryboarding\n\n\n\nScript Shooting\n\n\n\nDirecting\n\n\n\nCinematography\n\n\n\nand a lot more\n\n\n\n\nKnow Your Trainer:\n\n\nDarren Dharmai\nDarren works at SAE Institute Dubai as a Technical Supervisor assisting students and faculty with technical support. Before joining SAE\, he worked at Apple as a Programming Manager and facilitated Apple sessions for people to learn more about Apple products and help unlock creativity through their devices\, using videography and photography. Darren is passionate about teaching as it allows him to meet people from different backgrounds and he believes he can learn a little from everyone in the process. In his spare time\, Darren collaborates with local artists to produce music. He also holds a Bachelor’s Degree in Audio Production. \n\n\nRegister Now!\n\n\n\n\nDay 1: 15 June 2022\n\n\n\nDay 2: 16 June 2022\n\n\n\nDay 3: 17 June 2022
URL:https://www.skillreporter.com/event/mobile-photography-filmmaking-workshop-mesc-sae-institute/
CATEGORIES:Training Session,Workshop
ATTACH;FMTTYPE=image/png:https://www.skillreporter.com/wp-content/uploads/2022/06/Mobile-Photography-and-Filmmaking-Workshop-by-MESC-and-SAE-Institute-Dubai.png
ORGANIZER;CN="Media & Entertainment Skill Council":MAILTO:info@mescindia.org
END:VEVENT
END:VCALENDAR