BEGIN:VCALENDAR
VERSION:2.0
PRODID:-//Skill Reporter - ECPv6.15.20//NONSGML v1.0//EN
CALSCALE:GREGORIAN
METHOD:PUBLISH
X-ORIGINAL-URL:https://www.skillreporter.com
X-WR-CALDESC:Events for Skill Reporter
REFRESH-INTERVAL;VALUE=DURATION:PT1H
X-Robots-Tag:noindex
X-PUBLISHED-TTL:PT1H
BEGIN:VTIMEZONE
TZID:Asia/Kolkata
BEGIN:STANDARD
TZOFFSETFROM:+0530
TZOFFSETTO:+0530
TZNAME:IST
DTSTART:20210101T000000
END:STANDARD
END:VTIMEZONE
BEGIN:VEVENT
DTSTART;TZID=Asia/Kolkata:20220929T093000
DTEND;TZID=Asia/Kolkata:20220929T160000
DTSTAMP:20260424T200422
CREATED:20220926T162600Z
LAST-MODIFIED:20231121T163444Z
UID:58019-1664443800-1664467200@www.skillreporter.com
SUMMARY:SEPC's 12th Annual General Meeting: Skilling and Internationalization of Higher Education on focus
DESCRIPTION:The future of education could be an amalgamation of transformations driven by Education 4.0\, NEP 2020\, present pandemic\, emerging student needs and new technologies. The current social environment\, generational differences in society\, new student profiles and monumental technological changes have led Indian higher education institutions to reinvent and redesign ecosystems to create a more accessible and inclusive environment. \nThe new paradigm of education is defined by features such as 5G spectrum\, adoption of a mobile centric economy\, increased use of social media platforms\, etc. The need for facilitating personalized learning anytime\, anywhere is changing the role of teachers to facilitators and mentors are some of the key characteristics in the new age of Education. \nSEPC being a nodal organization for India’s services exports promotion\, has been advocating reforms in higher education sector\, carrying out research\, surveys and studies. The education committee has been in discussion with Government’s growth agenda for the sector. \nIn the above backdrop\, SEPC is organizing the Education & Skilling Interactive session as a precursor to its Annual General Meeting. The interactive session will focus on deliberations and discussions to create a roadmap to achieve the projected target of $ 1 trillion by 2030\, primarily focused on capacity building & enhancing competitiveness with focus on export of education services from the country. \nSEPC will bring together significant presence from the industry\, academia\, thought leaders\, Think Tanks\, NGO’s and consultants to deliberate upon strategies and share best practices that helps in developing an advanced education system. \n\n\nTheme: Skilling and Internationalization of Higher Education\n\n\n\nSpeakers >>>\n\n\n\n\nShri Piyush Goyal\, Minister of Commerce and Industry\, Consumer Affairs\, Food and Public Distribution and Textiles\, Govt. of India\n\n\n\nDr. Subhas Sarkar\, MoS Education\, Govt of India\n\n\n\nShri Rajeev Chandrasekhar\, MoS Ministry of Skill Development and Entrepreneurship and MoS Meity\n\n\n\nShri Parmeswaran Iyer IAS\, CEO\, Niti Aayog\n\n\n\nShri BVR Subrahmanyam IAS\, Commerce Strategy\, Ministry of Commerce and Industry\, Govt. of India\n\n\n\nProf. Deepak Kumar Srivastava\, Vice Chairman\, UGC\n\n\n\nDr. Maneesh Mishra\, Exec VP – Strategy\, NSDC\n\n\n\nDr. Pankaj Mittal\, Secretary General\, Association of Indian Universities\n\n\n\nProf. Rajesh Khanna\, President NIIT University\n\n\n\nDr. Vidya Yeravdekar\, Pro Chancellor\, Symbiosis International (Deemed) University\n\n\n\nMr. Raghav Gupta\, MD\, India & SAARC\, Coursera\n\n\n\nMr. Prashant Deshpande\, Senior VP\, Strategic HR\, Reliance Industries Ltd. \n\n\n\nDr. Sushma Yadav\, Member UGC\n\n\n\nDr. Avantika Tomar\, Partner\, EY Partheon\n\n\n\nShri Harish Porwal\, Partner\, Business Consulting\, EY\n\n\n\nCA Sunil H. Talati\, Chairman\, SEPC\n\n\n\nShri Karan Rathore\, Vice Chairman\, SEPC\n\n\n\nDr. Abhay Sinha\, Director General\, SEPC\n\n\n\n\nAgenda >>>\n\n\n\nSession 1: India@2047 – Services Export Strategy \n\n\n\n9:30 AM – 10:30 AMRegistration and Tea/Coffee10:30 AM – 10:35 AMIntroductory RemarksDr Abhay Sinha\,Director General\, SEPC10:35 AM – 10:40 AMWelcome AddressCA Sunil H. TalatiChairman\, SEPC10:40 AM – 10:45 AMSkill Sector Context SettingShri Harish PorwalPartner – Business Consulting\,Ernst & Young LLP10:45 AM – 10:50 AMEducation Services Sector Context SettingDr Avantika TomarPartner\, EY – Parthenon10:50 AM – 11:00 AM‘Guest of Honour’Shri B. V. R. Subrahmanyam\, IASCommerce Secretary\, Government of India11:00 AM – 11:10 AM‘Session Special Guest Address on Education Services’Dr Subhas SarkarHon’ble Minister of State\, Ministry of Education\, Government of India11:10 AM – 11:15 AMVote of Thanks byShri Karan RathoreVice Chairman\, SEPC11:15 AM – 11:30 AMTea Break\n\n\n\nSession 2: Transforming workforce skills for service exports \n\n\n\n11:30 AM – 11:35 AMPanel Introduction & Context Setting by the Session ModeratorShri Harish PorwalPartner – Business Consulting\, Ernst & Young LLP11:35 AM – 11:40 AMIndustry Panel Discussion– Prof. (Dr) Neharika VohraVice-Chancellor\, Delhi Skill & Entrepreneurship University– Shri Rishi KumarVice President & Centre Delivery Head\, HCL Technologies– Shri Prashant DeshpandeSr. Vice President\, Strategic HR\, Reliance Industries Ltd– Dr Maneesh MishraExecutive Vice President – Strategy\, National Skill Development Corporation11:50 AM – 12:00 PM‘Guest of Honour’Shri Parameswaran Iyer\, IASCEO\, NITI Aayog12:00 PM – 12:10 PM‘Guest of Honour’Shri Rajeev ChandrasekharHon’ble Minister of State\, Ministry of Skill Development & Entrepreneurship; and Minister of State in the Ministry of Electronics and Information Technology\, GOI12:10 PM – 12:25 AM‘Chief Guest Address on Services Sector – India @ 2047’Shri Piyush GoyalHon’ble Minister of Commerce & Industry\, Textiles\, and Consumer Affairs\, andFood & Public Distribution\, Government of India12:25 PM – 12:28 PMQnA 12:28 PM – 12:30 PMVote of Thanks byDr. Abhay SinhaDirector General\, SEPC12:30 PM – 12:45 PMBreak\n\n\n\nSession 3: Reimagining Higher Education for India @ 2047 \n\n\n\n12:45PM – 12:50PM Panel Introduction & Context Setting by the ‘Session Moderator’Dr Avantika TomarPartner\, EY – Parthenon12:50 PM – 12:55PMWelcome RemarksDr Vidya Yeravdekar\,Chairperson – Education Council\, SEPC\, andPro Chancellor at Symbiosis International (Deemed) University12:55 PM – 01:15PMIndustry Representation– Prof Rajesh KhannaPresident\, NIIT University– Prof (Smt.) Sushma YadavMember\, UGC\, andFormer Vice Chancellor\, Bhagat Phool Singh Mahila Vishwavidyalay– Shri Raghav GuptaManaging Director\, India & SAARC\, Coursera– Dr (Smt.) Pankaj MittalSecretary General\, Association of Indian Universities01:15 PM – 01:30PM‘Guest of Honour’Shri Arun Kumar Sinha\, IASManaging Director\, Footwear Design and Development Institute\, Ministry of Commerce\, GOI01:30 PM – 01:40PMQnA01:40 PM – 01:45PMVote of Thanks byDr Vidya Yeravdekar\,Chairperson – Education Council\, SEPC\, and Pro Chancellor at Symbiosis International (Deemed) University01:45 PM – 02:30PMLunch\n\n\n\nSession 4: Annual General Meeting  ( 02:30 PM – 03:30 PM ) \n\n\n\nHigh Tea ( 03:30 PM – 04:00 PM ) \n\n\n\n\nCLICK HERE TO REGISTER\n\n\n\n\n\n\nVenue >>>
URL:https://www.skillreporter.com/event/sepcs-annual-general-meeting-education-skill-development/
LOCATION:Hotel Taj Palace\, Taj Palace\, 2\, Sardar Patel Marg\, Diplomatic Enclave\, Chanakyapuri\, New Delhi\, New Delhi\, 110021\, India
CATEGORIES:Meet
ATTACH;FMTTYPE=image/jpeg:https://www.skillreporter.com/wp-content/uploads/2022/09/SEPC-AGM-2022-Education-Skill-Development-SkillReporter.jpg
END:VEVENT
END:VCALENDAR