BEGIN:VCALENDAR
VERSION:2.0
PRODID:-//Skill Reporter - ECPv6.15.20//NONSGML v1.0//EN
CALSCALE:GREGORIAN
METHOD:PUBLISH
X-WR-CALNAME:Skill Reporter
X-ORIGINAL-URL:https://www.skillreporter.com
X-WR-CALDESC:Events for Skill Reporter
REFRESH-INTERVAL;VALUE=DURATION:PT1H
X-Robots-Tag:noindex
X-PUBLISHED-TTL:PT1H
BEGIN:VTIMEZONE
TZID:Asia/Kolkata
BEGIN:STANDARD
TZOFFSETFROM:+0530
TZOFFSETTO:+0530
TZNAME:IST
DTSTART:20220101T000000
END:STANDARD
END:VTIMEZONE
BEGIN:VEVENT
DTSTART;TZID=Asia/Kolkata:20230622T110000
DTEND;TZID=Asia/Kolkata:20230622T180000
DTSTAMP:20260424T075402
CREATED:20230619T062300Z
LAST-MODIFIED:20230621T121318Z
UID:60461-1687431600-1687456800@www.skillreporter.com
SUMMARY:ASDC's Annual Partners Forum 2023
DESCRIPTION:The Automotive Skills Development Council is organizing a magnificent event “Annual Partners Forum 2023” in physical format.  \n\n\n\nwith the theme of \n\n\n\nSkilling The Future Together\n\n\n\nRecognizing the rapidly changing nature of the industry and the need for collaboration amongst Learners\, Organizations\, and other stakeholders to develop and enhance the skills that will be needed in the future. This includes upskilling current employees to meet the demands of new technology and processes\, as well as attracting and training new talent to enter the industry.  \n\n\n\nThe forum will be attended by over 250 key stakeholders from various sectors of the automotive industry\, including representatives from OEMs\, component manufacturers\, training institutes\, learners and other relevant organizations. With a diverse audience encompassing industry professionals\, policymakers\, and academia\, the event provides an unparalleled opportunity to engage with influential individuals and contribute to the collective dialogue on shaping the future of the automotive industry. \n\n\n\nThe forum will provide a unique platform for the automotive community to collaborate and generate a set of recommendations that will facilitate the adoption of new skilling\, upskilling\, and training methodologies in order to serve the youth in the coming decade and beyond.  \n\n\n\nChief Guest: Dr. Hanif QureshiIPS\, Joint Secy. (Automobile) Ministry of Heavy Industries\n\n\n\nThe event will witness the presence of Guest of Honour Dr. Neena Pahuja\, Executive Member\, NCVET\, Mr. Rahul Bharati\, Executive Director of Maruti Suzuki India Ltd\, Mr. Vinkesh Gulati\, Chairman of Research and Academy at the Federation of Automobile Dealers Association\, Mr. Vinod Agarwal\, MD and CEO of VE Commercial Vehicles Limited\, Mr. Sudhanshu Padhy\, Hero Motocorp Limited\, Mr. Niraj Hans of Sandhar Technologies and many more.  \n\n\n\nEvent Date and Time (IST)\n\n\n\nTimeDescriptionSpeaker11:00 – 11:30 AMRegistration11:30 – 11:32 AMMaster of Ceremonies11:32 – 11:35 AMLamp LightingChief Guest and Dignitaries11:35 – 11:40 AMWelcome AddressMr. Vinkesh GulatiChairman\, Research and Academy Federation of Automobile Dealers Association11:40 – 11:50 AMAnnual Update – ASDCMr. Vinod AgarwalMD and CEO\, VE Commercial Vehicles Limited & President ASDC11:50 – 11:55 PMUnveiling of– SANKALP TOT Impact Report– MHI 23 Future QualificationsChief Guest and Dignitaries11:55 – 12:05 PMKeynote SpeechDr. Neena PahujaExecutive Member\, NCVET12:05 – 12:15 PMKeynote SpeechMr Rahul Bharati Executive Director\, Maruti Suzuki India Ltd12:15 – 12:25 PMAddress by Guest of HonourDr Rodney ReviereProject Head Indo German Program for Vocational Education and Training ( IGVET)12:25 – 12:35 PMAddress by Chief GuestDr. Hanif QureshiIPS\, Joint Secy\, MHI12:35 – 12:45 PMConvocation Ceremony for Candidates of DABAD Automotive Pvt. Ltd.12:45 – 12:50 PMTopic – Shaping Lives\, Empowering CommunitiesMr Nishant RaghavGeneral Manager\, Distil Education and Technologies PVT LTD12:50 – 01:00 PMVote of ThanksMr. F R Sinhgvi – Joint Managing Director\, Sansera Engineering Pvt. Ltd. andVice President\, ASDC01:00 – 02:00 PMSession 1: Integrating Skill with Education: Opportunities and Challenges– Dr. K C Vora\, College of Engineering\, Pune– Mr. Sukhpreet Singh\, TANSAM Centre of Excellence– Mr. Himanshu Gupta\, Department of Education\, Delhi Government– Dr. Buddha Chandrashekhar\, AICTE\n\n\n\nLunch : 02:00 PM – 02:50 PM \n\n\n\n02:50 – 03:50 PMSession 2: Enhancing Productivity and Quality through Skilling– Mr. Sudhanshu Padhy\, Hero Motocorp Ltd– Mr.Yasutake Plant Head – / Mr. Ramniwas\, Production Head Mitsuba SICAL India Ltd.– Mr. Ajay Kumar SomvanshiC.H.R.O.(Senior Vice President-HR & Admin)\, Victora Auto Pvt.Ltd.– Narayana Swamy\, M K – Entrepreneur & Technology Consultant\, ANCIT Eductech03:50 – 04:00 PMFelicitation of Worlds Skills Competitors and Experts\n\n\n\nTea : 04:00 PM – 04:15 PM \n\n\n\n04:15 – 04:25 PMFelicitation of World Skills Industry Partners04:25 – 05:25 PMSession 3: Skilling through CSR Initiative– Mr. Praveen Paranjape – SVP & Director – General & Corporate Affairs\, Honda Cars India– Mr. Mukul Pal Chowdhury – General Manager\, Skoda Auto Volkswagen– Mr. Niraj Hans\, Sandhar Technologies05:25 – 05:35 PMVote of ThanksMr. Piyush Garg – CFO\, ASDC\n\n\n\n\n\nEvent Date and Time (IST)\n\n\n\n\n\n\n\n\n\n\n\nEvent Organizer\n\n\n\n\n\n\n\nEvent Venue\n\n\n\nHall Emerald\, Hotel Crown Plaza\, Okhla\n\n\n\nPlot No. 1\, Community Centre\, Pocket A\, Phase – 1\, Okhla\, New DelhiDelhi\, New Delhi 110020India+ Google Map
URL:https://www.skillreporter.com/event/asdc-annual-partners-forum-2023/
LOCATION:Hall Emerald\, Hotel Crown Plaza\, Okhla\, Plot No. 1\, Community Centre\, Pocket A\, Phase - 1\, Okhla\, New Delhi\, Delhi\, New Delhi\, 110020\, India
CATEGORIES:Meet
ATTACH;FMTTYPE=image/jpeg:https://www.skillreporter.com/wp-content/uploads/2023/06/ASDC-Skill-Development-Annual-Partners-Forum-2023.jpg
END:VEVENT
END:VCALENDAR