BEGIN:VCALENDAR
VERSION:2.0
PRODID:-//Skill Reporter - ECPv6.15.20//NONSGML v1.0//EN
CALSCALE:GREGORIAN
METHOD:PUBLISH
X-ORIGINAL-URL:https://www.skillreporter.com
X-WR-CALDESC:Events for Skill Reporter
REFRESH-INTERVAL;VALUE=DURATION:PT1H
X-Robots-Tag:noindex
X-PUBLISHED-TTL:PT1H
BEGIN:VTIMEZONE
TZID:Asia/Kolkata
BEGIN:STANDARD
TZOFFSETFROM:+0530
TZOFFSETTO:+0530
TZNAME:IST
DTSTART:20220101T000000
END:STANDARD
END:VTIMEZONE
BEGIN:VEVENT
DTSTART;TZID=Asia/Kolkata:20231017T070000
DTEND;TZID=Asia/Kolkata:20231019T163000
DTSTAMP:20260424T040558
CREATED:20231001T191745Z
LAST-MODIFIED:20231001T191748Z
UID:61439-1697526000-1697733000@www.skillreporter.com
SUMMARY:10th Asian Development Bank International Skills Forum
DESCRIPTION:10th International Skills Forum to be organized by Asian Development Bank (ADB)\, will be an innovative gathering of Asia-Pacific stakeholders and global experts focused on the transformative power of technology in education. The participants can explore vital themes like digital transformation\, climate change\, and interdisciplinary learning to forge innovative\, skilled\, and sustainable futures. \n\n\n\nAgenda\n\n\n\nRegister Now\n\n\n\n\n\n\nOrganized by:\n\n\n\nAsian Development Bank \n\n\n\n\n\nVenue:\n\n\n\nADB Headquarters\, Manilla\, Philippines
URL:https://www.skillreporter.com/event/asian-development-bank-adb-skills-forum/
ATTACH;FMTTYPE=image/jpeg:https://www.skillreporter.com/wp-content/uploads/2023/10/10th-Asian-Development-Skills-Forum.jpg
END:VEVENT
END:VCALENDAR