BEGIN:VCALENDAR
VERSION:2.0
PRODID:-//Skill Reporter - ECPv6.15.20//NONSGML v1.0//EN
CALSCALE:GREGORIAN
METHOD:PUBLISH
X-WR-CALNAME:Skill Reporter
X-ORIGINAL-URL:https://www.skillreporter.com
X-WR-CALDESC:Events for Skill Reporter
REFRESH-INTERVAL;VALUE=DURATION:PT1H
X-Robots-Tag:noindex
X-PUBLISHED-TTL:PT1H
BEGIN:VTIMEZONE
TZID:Asia/Kolkata
BEGIN:STANDARD
TZOFFSETFROM:+0530
TZOFFSETTO:+0530
TZNAME:IST
DTSTART:20220101T000000
END:STANDARD
END:VTIMEZONE
BEGIN:VEVENT
DTSTART;TZID=Asia/Kolkata:20231024T090000
DTEND;TZID=Asia/Kolkata:20231026T170000
DTSTAMP:20260424T040328
CREATED:20231001T185000Z
LAST-MODIFIED:20231001T185004Z
UID:61436-1698138000-1698339600@www.skillreporter.com
SUMMARY:Learning Forum: Shaping skills development and strengthening global collaboration in TVET
DESCRIPTION:The global Bridging Innovation and Learning in TVET (BILT) Learning Forum Striving for excellence: Shaping skills development and strengthening global collaboration in TVET concludes the two-year cycle of BILT Bridging Events in the three focus regions: Europe (Finland\, June 2022)\, Africa (Kenya\, November 2022) and Asia-Pacific (Singapore\, June 2023). \nIt builds on the momentum established during the current biennium and seeks to strengthen strategic partnerships and opportunities to advocate BILT topics and activities among policy-makers and TVET practitioners. \nThe 2023 BILT Learning Forum will take place in Bonn\, Germany and online. The event will bring together approximately 80 representatives of African\, Asian and European UNEVOC Centres\, as well as members of the BILT community. \nDuring the three-day event\, selected plenary sessions will be streamed online. Online participation is open to a global audience. \nThe BILT Learning Forum will: \n\nExplore excellent TVET practices and discuss TVET policies that support excellence in TVET\nSupport the international BILT community of UNEVOC Centres and TVET stakeholders to establish and deepen innovation collaboration and policy learning;\nPresent the final results of the 2023 BILT Expert Group on the dual transition of greening and digitalization in the hospitality and tourism sector;\nTake stock of BILT products from the 2022-2023 biennium and outline focus topics and activities for the next two years;\nConceptualize the 2024 BILT Expert Group with a focus on the building and construction sector;\nHold the annual meeting of the BILT Advisory Committee (BAC); and\nStrengthen BILT partnerships with the African Union\, the ASEAN TVET Council and the European Commission.\n\n\n\n\n\n\n\nConference Outline\n\n\n\n24 October 2023– Keynote sessions and discussions with policy-makers from Africa\, Asia and the Pacific and Europe on current TVET trends and challenges. Focus topics include up-/reskilling of the workforce\, skills intelligence and forecasting\, and TVET excellence and attractiveness.– Onsite: a study visit to interact with practitioners in the dual VET system in Germany (trainers and trainees) and to have a first-hand experience of on-the-job training.25 October 2023– Presentation of the final results of the BILT Expert Group on the dual transition in the hospitality and tourism sector.– Networking sessions to strengthen cooperation and thematic exchange among UNEVOC Centres and TVET institutions present at the event.– BILT matchmaking successes: Memorandum of Understanding – exchange ceremony– Annual meeting of the BILT Advisory Committee26 October 2023– Hybrid Learning Lab with a focus on Microcredentials.– Conceptualization meeting for the new BILT expert group on the dual transition in the building and construction sector (in person and by invitation only).– Side Event: UNEVOC Network members meeting (invited participants only)\n\n\n\n\nDraft Agenda\n\n\n\nRegister Now
URL:https://www.skillreporter.com/event/bilt-unesco-unevoc-skill-development-tvet-learning-forum-2023/
CATEGORIES:Conference
ATTACH;FMTTYPE=image/jpeg:https://www.skillreporter.com/wp-content/uploads/2023/10/BILT-Learning-Forum-Shaping-skills-development-and-strengthening-global-collaboration-in-TVET.jpg
END:VEVENT
END:VCALENDAR