BEGIN:VCALENDAR
VERSION:2.0
PRODID:-//Skill Reporter - ECPv6.15.20//NONSGML v1.0//EN
CALSCALE:GREGORIAN
METHOD:PUBLISH
X-ORIGINAL-URL:https://www.skillreporter.com
X-WR-CALDESC:Events for Skill Reporter
REFRESH-INTERVAL;VALUE=DURATION:PT1H
X-Robots-Tag:noindex
X-PUBLISHED-TTL:PT1H
BEGIN:VTIMEZONE
TZID:Asia/Kolkata
BEGIN:STANDARD
TZOFFSETFROM:+0530
TZOFFSETTO:+0530
TZNAME:IST
DTSTART:20220101T000000
END:STANDARD
END:VTIMEZONE
BEGIN:VEVENT
DTSTART;TZID=Asia/Kolkata:20230204T143000
DTEND;TZID=Asia/Kolkata:20230204T163000
DTSTAMP:20260424T120629
CREATED:20230127T094230Z
LAST-MODIFIED:20231121T164416Z
UID:58881-1675521000-1675528200@www.skillreporter.com
SUMMARY:SkillReporter Chai Pe Charcha - Skill Development All Hands Meet
DESCRIPTION:India is progressively moving towards being a knowledge economy\, where skills are widely recognized as the important lever of economic growth. Countries with higher and better levels of skills regulate more effectively the challenges and opportunities of the world of work. Hence\, skills and knowledge become the driving forces of any country’s economic growth and social development. \nIn view of that\, SkillReporter along with FESDIP\, the Federation of Education and Skill Development Institutions and Personnel is organizing “Chai Pe Charcha”. The perspective of the session is to connect those who all have some association or have some interest in Skill Development ecosystem. \n\n\nSkill Development All Hands Meet – A step towards strengthening skill ecosystem\n\n\nOver the networking tea\, you will be able to discuss your thoughts\, challenges\, opportunities\, opinions\, etc. with the co-participants in order to strengthen your knowledge and do better for your professional and institutional growth. \nWho should attend? \n\nHR Professionals\nSkill Training Providers\nSkill Assessing Partners\nCSR Professionals\nEducation Sector Professionals\n\nParticipation Process: \n\nStep 1: Pay a nominal participation fee of INR 299 towards refreshment via any of payment modes listed below.\n\n\nAcceptable Payment Modes: \nMode 1 : UPI\, Scan the code below or use UPI ID: 9711156169@hdfcbank \n \nMode 2 : NEFT/IMPS \nDhurya Broadcasting Private LimitedBank: HDFC Bank\nCA No.: 50200070651735\nIFSC Code: HDFC0001203 \n\n\n\n\nStep 2: Submit your details below:\n\n\n\n\n\n  \n\n\n\nPersonal Details:\n \n Name:   \n Designation:   \n Organization:   \n \nContact Details:\n Email ID:   \n Contact Number: \n WhatsApp Number: \n \n From where did you hear about this meetup?\nFrom a Friend/ColleagueFrom Our WebsiteFacebookLinkedInInstagramTwitterTelegram\nPayment Details:\nMode of Payment: \nTransaction/ Reference Number:\nDate of Payment:\n \nI authorize Skill Reporter to send updates about this session via email/sms/whatsapp message.\n \n\n Δ \n\n\n\n\n\n\n\n\n\n\n\n\nOrganizer:\n\n\n\n\n\nCo-Organizer:\n\n\n\n\n\n \n\n\n\n\n\nVenue:\n\n\n\nAtharv OfficeChamber 10\, Kailash Tower\,Kaushambi\, Uttar Pradesh – 201012IndiaLocation: https://goo.gl/maps/nqb4WFDrprRyC5ko7
URL:https://www.skillreporter.com/event/skillreporter-chai-pe-charcha-skill-development-all-hands-meet/
LOCATION:Atharv Office\, Chamber 10\, Kailash Tower\, Kaushambi\, Uttar Pradesh\, 201012\, India
CATEGORIES:Meet
ATTACH;FMTTYPE=image/jpeg:https://www.skillreporter.com/wp-content/uploads/2023/01/SkillReporter-Chai-Pe-Charcha.jpg
END:VEVENT
END:VCALENDAR