BEGIN:VCALENDAR
VERSION:2.0
PRODID:-//Skill Reporter - ECPv6.15.20//NONSGML v1.0//EN
CALSCALE:GREGORIAN
METHOD:PUBLISH
X-ORIGINAL-URL:https://www.skillreporter.com
X-WR-CALDESC:Events for Skill Reporter
REFRESH-INTERVAL;VALUE=DURATION:PT1H
X-Robots-Tag:noindex
X-PUBLISHED-TTL:PT1H
BEGIN:VTIMEZONE
TZID:Asia/Kolkata
BEGIN:STANDARD
TZOFFSETFROM:+0530
TZOFFSETTO:+0530
TZNAME:IST
DTSTART:20220101T000000
END:STANDARD
END:VTIMEZONE
BEGIN:VEVENT
DTSTART;TZID=Asia/Kolkata:20230530T103000
DTEND;TZID=Asia/Kolkata:20230530T150000
DTSTAMP:20260424T075446
CREATED:20230529T043951Z
LAST-MODIFIED:20231114T143909Z
UID:60289-1685442600-1685458800@www.skillreporter.com
SUMMARY:Industry Association Workshop for Skill Gap Study under DDUGKY
DESCRIPTION:Background\n\n\nJharkhand State Livelihood Promotion Society (JSLPS) in partnership with IPE Global Limited\, New Delhi (an international development sector consulting organization) and with the support of Jharkhand Industrial Area Development Authority (JIADA)\, Bokaro Region is conducting an Industry Association workshop at Bokaro Industrial Area Development Authority (BIADA) Bhawan.  \nThe workshop will enable better alignment of demand and supply of skills in the labour market and would also help in addressing the mismatch between the industry requirement and the current educational and training ecosystem in the state. By understanding the challenges faced by the industry partners\, the workshop will help in equipping the youth in Jharkhand with market-relevant skills and increase their employability in the labour market. Overall\, this would help JSLPS and entire skilling eco system of the Jharkhand in bringing a paradigm shift in the training and skilling ecosystem\, by bridging the gaps in the labour market and making the youth in the state future-ready\, thereby ensuring a continuous supply of skilled manpower to the industry as well. \n\n\nAgenda\n\n\n\nTimingsDescriptionSpeaker10:30 – 11:00 AMRegistration of participants11:00 – 11:10 AMWelcome NoteMs. Keerthishree G\, IAS\, DDC and Regional Director- JIADA Bokaro11:10 – 11:15 AM Inaugural AddressMr. Bishnu\, COO\, JSLPS11:15 – 11:25 AMProject BriefMr. Hasnain Warshi\, SPM\, JSLPS/ Mr. Saidatta Muktikanta Swain\, Consultant- Skills & Jobs\, JSLPS11:25 – 12:05 PMGaps and Challenges in Demand and Supply of ManpowerMr. Gaurav Verma\, Associate Director\, IPE Global Limited12:05 – 12:45 PM How industry’s involvement can strengthen the skilling ecosystemMr. Gaurav Verma\, Associate Director\, IPE Global Limited12:45 – 01:25 PM Best practices to reduce outmigration and enhance diversity and inclusionsMr. Gaurav Verma\, Associate Director\, IPE Global Limited01:25 – 01:30 PM Thank you NoteMs. Pommi Biswas\, Manager\, IPE Global Limited01:30 onwardsNetworking Lunch
URL:https://www.skillreporter.com/event/industry-association-workshop-skill-gap-study-ddugky-jharkhand-ipe-global/
CATEGORIES:Workshop
ATTACH;FMTTYPE=image/jpeg:https://www.skillreporter.com/wp-content/uploads/2023/05/Industry-Association-Workshop-Skill-Gap-Study-DDUGKY-Jharkhand-Skill-Reporter.jpg
END:VEVENT
END:VCALENDAR