BEGIN:VCALENDAR
VERSION:2.0
PRODID:-//Skill Reporter - ECPv6.15.20//NONSGML v1.0//EN
CALSCALE:GREGORIAN
METHOD:PUBLISH
X-WR-CALNAME:Skill Reporter
X-ORIGINAL-URL:https://www.skillreporter.com
X-WR-CALDESC:Events for Skill Reporter
REFRESH-INTERVAL;VALUE=DURATION:PT1H
X-Robots-Tag:noindex
X-PUBLISHED-TTL:PT1H
BEGIN:VTIMEZONE
TZID:Asia/Kolkata
BEGIN:STANDARD
TZOFFSETFROM:+0530
TZOFFSETTO:+0530
TZNAME:IST
DTSTART:20220101T000000
END:STANDARD
END:VTIMEZONE
BEGIN:VEVENT
DTSTART;TZID=Asia/Kolkata:20231012T080000
DTEND;TZID=Asia/Kolkata:20231016T170000
DTSTAMP:20260424T052107
CREATED:20231005T053000Z
LAST-MODIFIED:20231121T164824Z
UID:59056-1697097600-1697475600@www.skillreporter.com
SUMMARY:Formula Imperial (FI) and Indian Karting Race (IKR)
DESCRIPTION:Introduction: \nYoung minds have the capability to innovate and implement new things. As we all know Electric Vehicles are and will be the future of the automobile industry\, there is a need to provide a sustainable skills development platform to undergraduate students. Thus\, the Imperial Society of Innovative Engineers (ISIEINDIA) is contributing and bringing changes toward a greener and cleaner future\, inspiring younger generations to adopt renewable technology. With emerging technologies\, it is necessary to inculcate the right skills and provide an opportunity to engineering students so that they would be able to cope with the industry demands. Thus\, at ISIE we are creating an immersive learning ecosystem that facilitates the opportunities to work on Skills Development\, Research\, Innovation\, Marketing\, Costing\, Manufacturing\, etc. \n With this vision\, we started Formula Imperial (FI-Formula Students Design Challenge) and Indian Karting Race in 2014. The most awaited\, India’s first Student Formula and Go Kart events – JK Tyre Formula Imperial and Indian Karting Race to be happening in Noida. In the exhilarating world of motorsports\, the engineering students teams with their Student Formula and Go Kart vehicles across India from top institutes and universities will be going to ace the championship. 2000+ participants with their self-designed and manufactures cars\, coming with innovations in Vehicle Aerodynamics\, Battery\, Powertrain\, Brakes\, Steering\, Suspensions\, Overall Performance and so many other valuable parameters which improves vehicle performance and make them durable. \nFormula Imperial is Student Formula Design Challenge and Indian Karting Race is Students Go Kart Design Challenge where students across India Designs and Manufactures Formula Electric\, Formula Hybrid\, Formula Combustion\, Electric Kart and Combustion Kart as per the technical regulation given by the ISIE Technical Committee. It focuses towards E-Mobility and Green Energy\, providing opportunities to the engineering students to work on New and Renewable Energy\, Innovation\, New Technology. Student in the competition\, not only participating in the race but they are going to learn from the industry partners of the event about new technology\, motorsports\, opportunities\, and various topics related to automotive. Along with this students will also be going to get various placement opportunities from the industry partners in the event.  \n\n\n\n\n\n\nAgenda\n\n\n\nDayEvent ParticularsThursday\, 12 October 2023                   Team Registration > Induction > Opening Ceremony > Expert Talk (Bosch) > Pre Inspection – SafetyFriday\, 13 October 2023Technical Inspection – I (Accumulator\, Electrical and Mechanical) > Expert Talk (ANSYS and Ease My Trip)Saturday\, 14 October 2023Technical Inspection – II (Electrical and Mechanical) > Static Round > Placement Drive (Evage Technology Pvt. Ltd)Sunday\, 15 October 2023Dynamic Events (Brake\, Acceleration\, Cross Pad) > Static Round > Placement Drive (ISIEINDIA Pvt. Ltd) > Vehicle movement to BICSunday\, 16 October 2023Vehicle Line up and Media > Endurance Round > Drift Racing (JK Tyre) > Musical Band and Valedictory Ceremony > Certificate distribution\n\n\n\nSPECIAL GUESts\n\n\n\nDr. Chandrasekhar Buddha\, Chief Coordinating Officer\, AICTEDr. Rodney Reviere\, Project Head IGVET\, GIZ IndiaMr. Sanjay Sharma\, Head Corporate Communication and Motorsports\, JK Tyre and Industries Ltd.Dr. Dhruv Galgotia\, Chief Executive Officer\, Galgotias UniversityMr. Vinod Gupta\, President\, Imperial Society of Innovative Engineers (ISIE)Dr. Tushar Sharma\, Country Manager – Academics\, ANSYSMr. Sanchit Chopra\, Senior Vice President\, Ease My TripMr. Nikhlesh Jain\, Director\, Xtra Precision Screws Private LimitedMr. Sandeep Sharma\, Head – Design\, Evage Technology Pvt LtdMr. Pritish Shubham\, Technical Specialist\, Altair\n\n\n\nscope of event\n\n\n\nHands On TrainingStudents will work on their vehicle design and manufacturing thus gets hands on training on design and development of the formula carTechnical AssistanceOur technical team will assist for any queries throughout the event. Along with that\, continuous free event webinars with certification will be available to the participating team.Institute RecognitionInstitute will be recognized at National Level through various promotional activitiesPlacement SupportStudents placement support in sharing their resumes to our associated industries\, also organizer may arrange placement drive at the event.Exhibition Opportunities Students can exhibit their vehicle in various exhibitions as per the availability\n\n\n\nOBJECTIVE\n\n\n\n\nCreating awareness among the society to promote E Mobility.\n\n\n\nTo promote motorsport as a profession in India.\n\n\n\nEmpowering the women participants to work on new technologies.\n\n\n\nReal-time innovation on the vehicles designed by the students.\n\n\n\nTo promote make in India and help to maximize the uses of Electric Mobility.\n\n\n\nOpportunities for new minds to begin their startup journey.\n\n\n\nTechnological advancement in the Powertrain and battery system.\n\n\n\n\nWHO SHOULD ATTEND?\n\n\nThe final race on October 16th at Buddha International Circuit welcomes visitors who want to attend the event. To gain access\, visitors have two options for obtaining an event pass: \nOn-Site Pass Collection: Visitors can collect their event pass in person at Galgotia University. Passes will be available for pickup on either October 15th or October 16th\, up until 9:30 AM. \nOnline Registration: Alternatively\, visitors can register for the event online. This option allows for convenience and can be done prior to the event date. Details for online registration available in the below link. You have to collect the bands from Galgotias University only. \n\n\n\nREGISTER NOW\n\n\n\n\nSPONSORS\n\n\n\n\n\n\n\nWATCH LIVE\n\n\n\n\nInstagram Live\n\n\n\nYouTube Live\n\n\n\nLinkedIn Live
URL:https://www.skillreporter.com/event/formula-imperial-indian-karting-race-isie-india-skill-development-electric-vehicle-industry/
CATEGORIES:Conclave,Exhibition
END:VEVENT
BEGIN:VEVENT
DTSTART;TZID=Asia/Kolkata:20230707T103000
DTEND;TZID=Asia/Kolkata:20230707T190000
DTSTAMP:20260424T052107
CREATED:20230706T131600Z
LAST-MODIFIED:20231108T142712Z
UID:60592-1688725800-1688756400@www.skillreporter.com
SUMMARY:CxO Conclave 2023 by JSLPS
DESCRIPTION:Jharkhand State livelihood Promotion Society (JSLPS) is the nodal agency for the department of Rural Development\, Government of Jharkhand\, for effective implementation of livelihood promotion in the state. JSLPS is implementing Deendayal Antyodaya Yojna-National Rural Livelihoods Mission (DAY-NRLM) and Deen Dayal Upadhyaya Grameen Kaushalya Yojana (DDUGKY) in the state of Jharkhand. \nIn line with its mandate JSLPS is going to organize a Conclave in Tamil Nadu with an objective to take the skilling eco-system of the State to the next level. \nThe conclave would deliberate upon industry requirement of current & future skills\, explore placement opportunities\, retention challenges and to find out appropriate skilling modules which would ensure better livelihoods for the rural youth. We expect the outcome of the CxO conclave would not only enhance the better livelihood options for the rural youth of Jharkhand but also facilitate the industry to get the quality manpower they are looking for. I am confident that\, in this event\, we will jointly address all the above listed points\, set priorities\, and strategize to create the best skill ecosystem in Jharkhand. \n \n\n\nTimeTopicSpeaker10:30 – 11:00 AMRegistration11:00 – 11:10 AMWelcome Speech and Agenda SharingSPM – Skills and Jobs11:10 – 11:20 AMIntroductory SpeechCEO\, JSLPS11:20 – 11:30 AMKeynote Address IDirector\, MoRD11:30 – 11:45 AMKeynote Address IISecretary\, RDD\n\n\n\nTea Break : 11:45 AM – 12:00 NOON  \n\n\n\n12:00 – 12:45 PM                                                                                                        Panel Discussion I – Emerging Trends in Skill Development & The Future of WorkThere has been a global shift in the workforce with a range of jobs coming up and traditional employment giving way to these. The Fourth Industrial Revolution is giving way to the modern technology transforming the skills sector. The skills relevant at present are likely to be redundant in the coming future and hence\, upskilling is the need of the hour.The current workforce in the country is not prepared to deal with these changes with more than half of the prospective professionals failing to meet the employability requirements. Talent shortage of 29 million by 2030 is anticipated by The International Labour Organization. This gap will affect a lot of industries and businesses and the country will face acute shortage of skilled manpower. This session will deliberate on the emerging trends in the industry\, the requirements and how the skilling landscape is being affected by it and is evolving based on the current demands.Welcome remarks by the Moderator(Technical Support Agency-Jharkhand State Livelihood Promotion Society)Panel DiscussionGovernment OfficialsIndustry ExpertTech ExpertSector Skill CouncilSector Skill Council Q&AClosing Remarks12:45 – 01:30 PM                                                                                                                                                                                                                                            Panel Discussion II- Upskilling and Reskilling: Strategies for Effective Skill Development With the changing workforce scenario and rise in automation and Al\, there will be about 133 million new roles as per World Economic Forum. These job roles would require new sets of knowledge and skills\, thus bringing forth the need for upskilling and reskilling.Upskilling means helping and teaching the employees ‘new skills’ and develop new competencies to close the talent gaps and equip them to perform better in their current roles. Reskilling is about switching roles and promoting lateral learning to help people move onto new job roles within the organization.These two new strategies must be adopted for developing new competencies and in this session\, the panelists will be discussing about the adoption of these strategies for skill development in the evolving job scenarios and in-demand skills.Welcome remarks by the Moderator(Official-Government of Jharkhand)Panel DiscussionGovernment OfficialsGovernment OfficialsIndustry ExpertIndustry ExpertSector Skill CouncilSector Skill CouncilQ&AClosing Remarks\n\n\n\nLunch : 01:30 PM – 02:30 PM \n\n\n\n02:30 – 3:15 PM                                                                                                                                                                                                                                                                                                                    Panel Discussion III- The Role of Government in Promoting Skill Development and Workforce ReadinessSkilling sector is constantly growing and in the coming years\, it has become imperative to lay emphasis on the nation-wide programs for skill building. According to the World Trade Organization\, the GDP level of India can increase by 305% by 2035 if the focus in on skill development and training as out of the youth entering the workforce every year\, more than 70% are not job ready. With the new job roles\, this gap is going to widen if the strong measures to bridge the skill gaps re not undertaken. To enhance the employability of its youth\, empower them and provide them with a safe future\, it is necessary that education and skill development go hand in hand.The government has a vital role to play and\, in this session\, the panelists will deliberate upon some of the measures which can be undertaken by the government to promote skill development in terms of: policy interventions\, infrastructure developments\, industry linkages\, demand creation for skilling\, improving participation of private sector in skilling and strong and robust M&E mechanisms for informed decision making.Welcome remarks by the Moderator (Technical Support Agency JSLPS)Panel DiscussionGovernment OfficialsGovernment OfficialsGovernment OfficialsSector Skill CouncilCXO-PIAIndustry Expert Q&AClosing Remarks03:15 – 04:00 PM                              Panel Discussion IV – “Bridging the Skills Gap: Strategies to improve placement & retentionThe Skill India Mission has led to the provision of trained workforce for the country by preparing the youngsters through training. However\, in the face of changing and evolving new roles\, it is imperative that skill development needs to be aligned with new technologies such as Al\, machine learning\, advance biosciences etc. to build a future ready workforce. The gig economy\, demographic and social shifts are together defining a ‘future of work’ affecting the companies\, workers and supply chains. There need to be catering to industry demand and include not only technical know-how but also must include soft skills\, behaviors\, mindset trainings and digital literacy that enables the youth to be more agile\, receptive and resilient.This can be done through mentoring\, coaching\, adopting hybrid models\, promoting apprenticeships and developing industry linkages as it will not only enhance learning but will also promote retention and employee engagement. The other strategy could be to improve women participation in the non-traditional roles and promote STEM education to ensure that the industry requirements of trained workforce to work in different shifts are met. In this session\, the panelists will dwell upon the strategies to improve placement and retention and methods to bridge the existing skill gaps.Welcome remarks by the Moderator (Industry Expert)Panel DiscussionPanel DiscussionModrator – Industry ExpertCXO-PIAGovernment OfficialEmployerEmployer Q&AClosing Remarks\n\n\n\n04:15 – 04:30 PMFelicitation of Skill Icons04:30 – 04:45 PMFelicitation of Project Implementing Agencies04:45 – 05:00 PMFelicitation of Employers05:00 – 05:15 PMWadhwani Foundation05:15 – 05:30 PMClosing Remarks and Vote of Thanks by COO JSLPS\n\n\n\nHigh Tea and Networking : 05:30 PM onwards \n\n\n\n\n\nEvent Date and Time (IST)\n\n\n\n\n\n\n\n\n\n\n\nEvent Organizer\n\n\n\n\n\n\n\n\n\nEvent Date and Time (IST)\n\n\n\nLe Meridien762\, Avinashi Rd\, Cexus Nagar\, Neelambur\, Tamil Nadu 641062Get Directions
URL:https://www.skillreporter.com/event/jslps-jharkhand-development-skill-connect-cxo-meet/
CATEGORIES:Conclave
ATTACH;FMTTYPE=image/jpeg:https://www.skillreporter.com/wp-content/uploads/2023/07/JSLPS-Jharkhand-Skill-CxO-Conclave-2023-SkillReporter.jpg
END:VEVENT
END:VCALENDAR